Package: STRINGdb Version: 2.22.0 Command: /home/biocbuild/bbs-3.22-bioc/R/bin/R CMD INSTALL STRINGdb StartedAt: 2025-11-06 15:10:41 -0500 (Thu, 06 Nov 2025) EndedAt: 2025-11-06 15:10:47 -0500 (Thu, 06 Nov 2025) EllapsedTime: 6.8 seconds RetCode: 0 Status: OK