Package: STRINGdb Version: 2.22.0 Command: rm -rf STRINGdb.buildbin-libdir && mkdir STRINGdb.buildbin-libdir && /Users/biocbuild/BBS/utils/build-universal.sh STRINGdb_2.22.0.tar.gz /Library/Frameworks/R.framework/Resources/bin/R STRINGdb.buildbin-libdir StartedAt: 2025-11-06 23:23:44 -0500 (Thu, 06 Nov 2025) EndedAt: 2025-11-06 23:23:47 -0500 (Thu, 06 Nov 2025) EllapsedTime: 3.0 seconds RetCode: 0 Status: OK PackageFile: STRINGdb_2.22.0.tgz PackageFileSize: 10.14 MiB