Package: SRAdb Version: 1.71.0 Command: /home/biocbuild/R/R/bin/R CMD check --install=check:SRAdb.install-out.txt --library=/home/biocbuild/R/R/site-library --no-vignettes --timings SRAdb_1.71.0.tar.gz StartedAt: 2025-10-17 14:06:57 -0000 (Fri, 17 Oct 2025) EndedAt: 2025-10-17 14:07:45 -0000 (Fri, 17 Oct 2025) EllapsedTime: 48.0 seconds RetCode: 0 Status: OK CheckDir: SRAdb.Rcheck Warnings: 0