Package: SRAdb Version: 1.72.0 Command: /home/biocbuild/bbs-3.22-bioc/R/bin/R CMD INSTALL SRAdb StartedAt: 2025-11-06 15:11:28 -0500 (Thu, 06 Nov 2025) EndedAt: 2025-11-06 15:11:34 -0500 (Thu, 06 Nov 2025) EllapsedTime: 6.1 seconds RetCode: 0 Status: OK