Package: SRAdb Version: 1.72.0 Command: /Library/Frameworks/R.framework/Resources/bin/R CMD INSTALL SRAdb StartedAt: 2025-11-03 15:18:50 -0500 (Mon, 03 Nov 2025) EndedAt: 2025-11-03 15:18:58 -0500 (Mon, 03 Nov 2025) EllapsedTime: 7.9 seconds RetCode: 0 Status: OK