Package: SRAdb Version: 1.72.0 Command: /Library/Frameworks/R.framework/Resources/bin/R CMD check --install=check:SRAdb.install-out.txt --library=/Library/Frameworks/R.framework/Resources/library --no-vignettes --timings SRAdb_1.72.0.tar.gz StartedAt: 2025-11-04 00:36:43 -0500 (Tue, 04 Nov 2025) EndedAt: 2025-11-04 00:37:23 -0500 (Tue, 04 Nov 2025) EllapsedTime: 39.9 seconds RetCode: 0 Status: OK CheckDir: SRAdb.Rcheck Warnings: 0