Package: SRAdb Version: 1.72.0 Command: /Library/Frameworks/R.framework/Resources/bin/R CMD build --keep-empty-dirs --no-resave-data SRAdb StartedAt: 2025-11-03 18:58:43 -0500 (Mon, 03 Nov 2025) EndedAt: 2025-11-03 18:58:59 -0500 (Mon, 03 Nov 2025) EllapsedTime: 16.0 seconds RetCode: 0 Status: OK PackageFile: SRAdb_1.72.0.tar.gz PackageFileSize: 888.1 KiB