Package: SRAdb Version: 1.72.0 Command: rm -rf SRAdb.buildbin-libdir && mkdir SRAdb.buildbin-libdir && /Users/biocbuild/BBS/utils/build-universal.sh SRAdb_1.72.0.tar.gz /Library/Frameworks/R.framework/Resources/bin/R SRAdb.buildbin-libdir StartedAt: 2025-11-04 02:06:52 -0500 (Tue, 04 Nov 2025) EndedAt: 2025-11-04 02:07:01 -0500 (Tue, 04 Nov 2025) EllapsedTime: 9.2 seconds RetCode: 0 Status: OK PackageFile: SRAdb_1.72.0.tgz PackageFileSize: 845.9 KiB