Package: SRAdb Version: 1.72.0 Command: /Library/Frameworks/R.framework/Resources/bin/R CMD build --keep-empty-dirs --no-resave-data SRAdb StartedAt: 2025-11-06 17:53:37 -0500 (Thu, 06 Nov 2025) EndedAt: 2025-11-06 17:53:43 -0500 (Thu, 06 Nov 2025) EllapsedTime: 6.1 seconds RetCode: 0 Status: OK PackageFile: SRAdb_1.72.0.tar.gz PackageFileSize: 889.6 KiB