Package: SRAdb Version: 1.72.0 Maintainer: Jack Zhu MaintainerEmail: zhujack at mail.nih.gov git_url: https://git.bioconductor.org/packages/SRAdb git_branch: RELEASE_3_22 git_last_commit: e1054a1 git_last_commit_date: 2025-10-29 10:04:50 -0500 (Wed, 29 Oct 2025)