Package: SQLDataFrame Version: 1.24.0 Command: /Library/Frameworks/R.framework/Resources/bin/R CMD check --install=check:SQLDataFrame.install-out.txt --library=/Library/Frameworks/R.framework/Resources/library --no-vignettes --timings SQLDataFrame_1.24.0.tar.gz StartedAt: 2025-11-04 00:36:17 -0500 (Tue, 04 Nov 2025) EndedAt: 2025-11-04 00:39:15 -0500 (Tue, 04 Nov 2025) EllapsedTime: 178.2 seconds RetCode: 1 Status: ERROR CheckDir: SQLDataFrame.Rcheck Warnings: NA