Package: SQLDataFrame Version: 1.24.0 Command: /Library/Frameworks/R.framework/Resources/bin/R CMD INSTALL SQLDataFrame StartedAt: 2025-11-09 15:08:16 -0500 (Sun, 09 Nov 2025) EndedAt: 2025-11-09 15:08:23 -0500 (Sun, 09 Nov 2025) EllapsedTime: 7.1 seconds RetCode: 0 Status: OK