Package: SQLDataFrame Version: 1.24.0 Command: /Library/Frameworks/R.framework/Resources/bin/R CMD build --keep-empty-dirs --no-resave-data SQLDataFrame StartedAt: 2025-11-09 17:55:36 -0500 (Sun, 09 Nov 2025) EndedAt: 2025-11-09 17:55:48 -0500 (Sun, 09 Nov 2025) EllapsedTime: 12.1 seconds RetCode: 0 Status: OK PackageFile: SQLDataFrame_1.24.0.tar.gz PackageFileSize: 234.9 KiB