Package: SQLDataFrame Version: 1.24.0 Command: rm -rf SQLDataFrame.buildbin-libdir && mkdir SQLDataFrame.buildbin-libdir && /Users/biocbuild/BBS/utils/build-universal.sh SQLDataFrame_1.24.0.tar.gz /Library/Frameworks/R.framework/Resources/bin/R SQLDataFrame.buildbin-libdir StartedAt: 2025-11-09 23:26:28 -0500 (Sun, 09 Nov 2025) EndedAt: 2025-11-09 23:26:36 -0500 (Sun, 09 Nov 2025) EllapsedTime: 8.2 seconds RetCode: 0 Status: OK PackageFile: SQLDataFrame_1.24.0.tgz PackageFileSize: 574.7 KiB