Package: SPONGE Version: 1.30.0 Command: E:\biocbuild\bbs-3.21-bioc\R\bin\R.exe CMD check --no-multiarch --install=check:SPONGE.install-out.txt --library=E:\biocbuild\bbs-3.21-bioc\R\library --no-vignettes --timings SPONGE_1.30.0.tar.gz StartedAt: 2025-08-15 07:24:12 -0400 (Fri, 15 Aug 2025) EndedAt: 2025-08-15 07:31:38 -0400 (Fri, 15 Aug 2025) EllapsedTime: 446.2 seconds RetCode: 0 Status: WARNINGS CheckDir: SPONGE.Rcheck Warnings: 5