Package: SPONGE Version: 1.30.0 Command: rm -rf SPONGE.buildbin-libdir && mkdir SPONGE.buildbin-libdir && E:\biocbuild\bbs-3.21-bioc\R\bin\R.exe CMD INSTALL --build --library=SPONGE.buildbin-libdir SPONGE_1.30.0.tar.gz StartedAt: 2025-08-15 10:24:07 -0400 (Fri, 15 Aug 2025) EndedAt: 2025-08-15 10:25:51 -0400 (Fri, 15 Aug 2025) EllapsedTime: 104.0 seconds RetCode: 0 Status: OK PackageFile: SPONGE_1.30.0.zip PackageFileSize: 8.424 MiB