Package: SPONGE Version: 1.30.0 Command: /Library/Frameworks/R.framework/Resources/bin/R CMD INSTALL SPONGE StartedAt: 2025-10-13 15:57:10 -0400 (Mon, 13 Oct 2025) EndedAt: 2025-10-13 15:59:17 -0400 (Mon, 13 Oct 2025) EllapsedTime: 126.6 seconds RetCode: 0 Status: OK