Package: SPONGE Version: 1.30.0 Command: /Library/Frameworks/R.framework/Resources/bin/R CMD check --install=check:SPONGE.install-out.txt --library=/Library/Frameworks/R.framework/Resources/library --no-vignettes --timings SPONGE_1.30.0.tar.gz StartedAt: 2025-10-14 11:03:17 -0400 (Tue, 14 Oct 2025) EndedAt: 2025-10-14 11:15:12 -0400 (Tue, 14 Oct 2025) EllapsedTime: 714.8 seconds RetCode: 0 Status: WARNINGS CheckDir: SPONGE.Rcheck Warnings: 5