Package: SPICEY Version: 1.0.0 Command: /Library/Frameworks/R.framework/Resources/bin/R CMD check --install=check:SPICEY.install-out.txt --library=/Library/Frameworks/R.framework/Resources/library --no-vignettes --timings SPICEY_1.0.0.tar.gz StartedAt: 2025-11-06 22:18:02 -0500 (Thu, 06 Nov 2025) EndedAt: 2025-11-06 22:19:04 -0500 (Thu, 06 Nov 2025) EllapsedTime: 61.7 seconds RetCode: 0 Status: OK CheckDir: SPICEY.Rcheck Warnings: 0