Package: SPIAT Version: 1.10.0 Command: rm -rf SPIAT.buildbin-libdir && mkdir SPIAT.buildbin-libdir && E:\biocbuild\bbs-3.21-bioc\R\bin\R.exe CMD INSTALL --build --library=SPIAT.buildbin-libdir SPIAT_1.10.0.tar.gz StartedAt: 2025-08-15 10:23:23 -0400 (Fri, 15 Aug 2025) EndedAt: 2025-08-15 10:24:17 -0400 (Fri, 15 Aug 2025) EllapsedTime: 53.7 seconds RetCode: 0 Status: OK PackageFile: SPIAT_1.10.0.zip PackageFileSize: 4.251 MiB