Package: SPIA Version: 2.60.0 Command: /Library/Frameworks/R.framework/Resources/bin/R CMD build --keep-empty-dirs --no-resave-data SPIA StartedAt: 2025-10-13 22:56:05 -0400 (Mon, 13 Oct 2025) EndedAt: 2025-10-13 23:05:43 -0400 (Mon, 13 Oct 2025) EllapsedTime: 577.3 seconds RetCode: 0 Status: OK PackageFile: SPIA_2.60.0.tar.gz PackageFileSize: 2.549 MiB