Package: SPIA Version: 2.60.0 Command: /home/biocbuild/R/R/bin/R CMD INSTALL SPIA StartedAt: 2025-10-13 20:27:03 -0000 (Mon, 13 Oct 2025) EndedAt: 2025-10-13 20:27:09 -0000 (Mon, 13 Oct 2025) EllapsedTime: 6.1 seconds RetCode: 0 Status: OK