Package: SPEM Version: 1.50.0 Command: /Library/Frameworks/R.framework/Resources/bin/R CMD INSTALL SPEM StartedAt: 2025-11-03 15:20:10 -0500 (Mon, 03 Nov 2025) EndedAt: 2025-11-03 15:20:21 -0500 (Mon, 03 Nov 2025) EllapsedTime: 11.3 seconds RetCode: 0 Status: OK