Package: SPEM Version: 1.50.0 Command: /Library/Frameworks/R.framework/Resources/bin/R CMD check --install=check:SPEM.install-out.txt --library=/Library/Frameworks/R.framework/Resources/library --no-vignettes --timings SPEM_1.50.0.tar.gz StartedAt: 2025-11-06 22:17:28 -0500 (Thu, 06 Nov 2025) EndedAt: 2025-11-06 22:17:44 -0500 (Thu, 06 Nov 2025) EllapsedTime: 16.2 seconds RetCode: 0 Status: OK CheckDir: SPEM.Rcheck Warnings: 0