Package: SPEM Version: 1.50.0 Command: rm -rf SPEM.buildbin-libdir && mkdir SPEM.buildbin-libdir && /Users/biocbuild/BBS/utils/build-universal.sh SPEM_1.50.0.tar.gz /Library/Frameworks/R.framework/Resources/bin/R SPEM.buildbin-libdir StartedAt: 2025-11-06 23:23:07 -0500 (Thu, 06 Nov 2025) EndedAt: 2025-11-06 23:23:10 -0500 (Thu, 06 Nov 2025) EllapsedTime: 3.1 seconds RetCode: 0 Status: OK PackageFile: SPEM_1.50.0.tgz PackageFileSize: 499.3 KiB