Package: SPEM Version: 1.50.0 Maintainer: Xinyi YANG MaintainerEmail: yangxinyi at picb.ac.cn git_url: https://git.bioconductor.org/packages/SPEM git_branch: RELEASE_3_22 git_last_commit: d70b1ef git_last_commit_date: 2025-10-29 10:14:09 -0500 (Wed, 29 Oct 2025)