Package: SOMNiBUS Version: 1.16.0 Command: /Library/Frameworks/R.framework/Resources/bin/R CMD INSTALL SOMNiBUS StartedAt: 2025-10-13 16:13:17 -0400 (Mon, 13 Oct 2025) EndedAt: 2025-10-13 16:14:58 -0400 (Mon, 13 Oct 2025) EllapsedTime: 101.1 seconds RetCode: 0 Status: OK