Package: SOMNiBUS Version: 1.16.0 Command: rm -rf SOMNiBUS.buildbin-libdir && mkdir SOMNiBUS.buildbin-libdir && /Users/biocbuild/BBS/utils/build-universal.sh SOMNiBUS_1.16.0.tar.gz /Library/Frameworks/R.framework/Resources/bin/R SOMNiBUS.buildbin-libdir StartedAt: 2025-10-14 14:50:32 -0400 (Tue, 14 Oct 2025) EndedAt: 2025-10-14 14:52:25 -0400 (Tue, 14 Oct 2025) EllapsedTime: 113.1 seconds RetCode: 0 Status: OK PackageFile: SOMNiBUS_1.16.0.tgz PackageFileSize: 638.3 KiB