Package: SOMNiBUS Version: 1.16.0 Command: /Library/Frameworks/R.framework/Resources/bin/R CMD build --keep-empty-dirs --no-resave-data SOMNiBUS StartedAt: 2025-04-21 17:42:54 -0400 (Mon, 21 Apr 2025) EndedAt: 2025-04-21 17:45:31 -0400 (Mon, 21 Apr 2025) EllapsedTime: 157.8 seconds RetCode: 0 Status: OK PackageFile: SOMNiBUS_1.16.0.tar.gz PackageFileSize: 1.029 MiB