Package: SNPhood Version: 1.39.0 Command: F:\biocbuild\bbs-3.22-bioc\R\bin\R.exe CMD INSTALL SNPhood StartedAt: 2025-08-14 16:40:14 -0400 (Thu, 14 Aug 2025) EndedAt: 2025-08-14 16:41:40 -0400 (Thu, 14 Aug 2025) EllapsedTime: 85.8 seconds RetCode: 0 Status: OK