Package: SNPhood Version: 1.40.0 Command: /home/biocbuild/bbs-3.22-bioc/R/bin/R CMD INSTALL SNPhood StartedAt: 2025-11-17 17:52:55 -0500 (Mon, 17 Nov 2025) EndedAt: 2025-11-17 17:54:01 -0500 (Mon, 17 Nov 2025) EllapsedTime: 65.9 seconds RetCode: 0 Status: OK