Package: SNPhood Version: 1.40.0 Command: /home/biocbuild/bbs-3.22-bioc/R/bin/R CMD check --install=check:SNPhood.install-out.txt --library=/home/biocbuild/bbs-3.22-bioc/R/site-library --timings SNPhood_1.40.0.tar.gz StartedAt: 2025-11-18 08:44:18 -0500 (Tue, 18 Nov 2025) EndedAt: 2025-11-18 08:58:16 -0500 (Tue, 18 Nov 2025) EllapsedTime: 837.7 seconds RetCode: 0 Status: OK CheckDir: SNPhood.Rcheck Warnings: 0