Package: SNPediaR Version: 1.35.0 Command: /home/biocbuild/R/R/bin/R CMD check --install=check:SNPediaR.install-out.txt --library=/home/biocbuild/R/R/site-library --no-vignettes --timings SNPediaR_1.35.0.tar.gz StartedAt: 2025-10-17 13:50:20 -0000 (Fri, 17 Oct 2025) EndedAt: 2025-10-17 13:50:56 -0000 (Fri, 17 Oct 2025) EllapsedTime: 36.0 seconds RetCode: 0 Status: OK CheckDir: SNPediaR.Rcheck Warnings: 0