Package: SNPediaR Version: 1.35.0 Command: F:\biocbuild\bbs-3.22-bioc\R\bin\R.exe CMD check --no-multiarch --install=check:SNPediaR.install-out.txt --library=F:\biocbuild\bbs-3.22-bioc\R\library --no-vignettes --timings SNPediaR_1.35.0.tar.gz StartedAt: 2025-08-15 08:04:06 -0400 (Fri, 15 Aug 2025) EndedAt: 2025-08-15 08:04:42 -0400 (Fri, 15 Aug 2025) EllapsedTime: 35.8 seconds RetCode: 0 Status: OK CheckDir: SNPediaR.Rcheck Warnings: 0