Package: SNPediaR Version: 1.35.0 Command: rm -rf SNPediaR.buildbin-libdir && mkdir SNPediaR.buildbin-libdir && F:\biocbuild\bbs-3.22-bioc\R\bin\R.exe CMD INSTALL --build --library=SNPediaR.buildbin-libdir SNPediaR_1.35.0.tar.gz StartedAt: 2025-08-15 11:22:02 -0400 (Fri, 15 Aug 2025) EndedAt: 2025-08-15 11:22:07 -0400 (Fri, 15 Aug 2025) EllapsedTime: 5.0 seconds RetCode: 0 Status: OK PackageFile: SNPediaR_1.35.0.zip PackageFileSize: 248.8 KiB