Package: SNPediaR Version: 1.36.0 Command: /home/biocbuild/bbs-3.22-bioc/R/bin/R CMD INSTALL SNPediaR StartedAt: 2025-11-06 15:01:47 -0500 (Thu, 06 Nov 2025) EndedAt: 2025-11-06 15:01:51 -0500 (Thu, 06 Nov 2025) EllapsedTime: 4.5 seconds RetCode: 0 Status: OK