Package: SNPediaR Version: 1.36.0 Command: /home/biocbuild/bbs-3.22-bioc/R/bin/R CMD build --keep-empty-dirs --no-resave-data --md5 SNPediaR StartedAt: 2025-11-06 20:10:47 -0500 (Thu, 06 Nov 2025) EndedAt: 2025-11-06 20:10:54 -0500 (Thu, 06 Nov 2025) EllapsedTime: 7.0 seconds RetCode: 0 Status: OK PackageFile: SNPediaR_1.36.0.tar.gz PackageFileSize: 230.9 KiB