Package: SNAGEE Version: 1.48.0 Command: rm -rf SNAGEE.buildbin-libdir && mkdir SNAGEE.buildbin-libdir && /Users/biocbuild/BBS/utils/build-universal.sh SNAGEE_1.48.0.tar.gz /Library/Frameworks/R.framework/Resources/bin/R SNAGEE.buildbin-libdir StartedAt: 2025-10-14 14:49:59 -0400 (Tue, 14 Oct 2025) EndedAt: 2025-10-14 14:50:05 -0400 (Tue, 14 Oct 2025) EllapsedTime: 5.3 seconds RetCode: 0 Status: OK PackageFile: SNAGEE_1.48.0.tgz PackageFileSize: 187.1 KiB