Package: SMITE Version: 1.36.0 Command: rm -rf SMITE.buildbin-libdir && mkdir SMITE.buildbin-libdir && E:\biocbuild\bbs-3.21-bioc\R\bin\R.exe CMD INSTALL --build --library=SMITE.buildbin-libdir SMITE_1.36.0.tar.gz StartedAt: 2025-08-15 10:20:57 -0400 (Fri, 15 Aug 2025) EndedAt: 2025-08-15 10:22:11 -0400 (Fri, 15 Aug 2025) EllapsedTime: 74.3 seconds RetCode: 0 Status: OK PackageFile: SMITE_1.36.0.zip PackageFileSize: 3.582 MiB