Package: SMITE Version: 1.36.0 Command: /home/biocbuild/R/R/bin/R CMD check --install=check:SMITE.install-out.txt --library=/home/biocbuild/R/R/site-library --no-vignettes --timings SMITE_1.36.0.tar.gz StartedAt: 2025-10-14 14:26:23 -0000 (Tue, 14 Oct 2025) EndedAt: 2025-10-14 14:33:59 -0000 (Tue, 14 Oct 2025) EllapsedTime: 455.5 seconds RetCode: 0 Status: OK CheckDir: SMITE.Rcheck Warnings: 0