Package: SMAD Version: 1.25.0 Command: chmod a+r SMAD -R && F:\biocbuild\bbs-3.22-bioc\R\bin\R.exe CMD build --keep-empty-dirs --no-resave-data SMAD StartedAt: 2025-08-14 23:22:21 -0400 (Thu, 14 Aug 2025) EndedAt: 2025-08-14 23:22:54 -0400 (Thu, 14 Aug 2025) EllapsedTime: 33.5 seconds RetCode: 0 Status: OK PackageFile: SMAD_1.25.0.tar.gz PackageFileSize: 377.1 KiB