Package: SMAD Version: 1.26.0 Command: /Library/Frameworks/R.framework/Resources/bin/R CMD check --install=check:SMAD.install-out.txt --library=/Library/Frameworks/R.framework/Resources/library --no-vignettes --timings SMAD_1.26.0.tar.gz StartedAt: 2025-11-10 22:26:51 -0500 (Mon, 10 Nov 2025) EndedAt: 2025-11-10 22:27:14 -0500 (Mon, 10 Nov 2025) EllapsedTime: 23.3 seconds RetCode: 0 Status: WARNINGS CheckDir: SMAD.Rcheck Warnings: 1