Package: SMAD Version: 1.26.0 Command: /Library/Frameworks/R.framework/Resources/bin/R CMD build --keep-empty-dirs --no-resave-data SMAD StartedAt: 2025-11-10 17:47:58 -0500 (Mon, 10 Nov 2025) EndedAt: 2025-11-10 17:48:06 -0500 (Mon, 10 Nov 2025) EllapsedTime: 8.1 seconds RetCode: 0 Status: OK PackageFile: SMAD_1.26.0.tar.gz PackageFileSize: 399.2 KiB