Package: SIMAT Version: 1.42.0 Command: /home/biocbuild/R/R/bin/R CMD build --keep-empty-dirs --no-resave-data SIMAT StartedAt: 2025-11-18 05:08:11 -0000 (Tue, 18 Nov 2025) EndedAt: 2025-11-18 05:08:36 -0000 (Tue, 18 Nov 2025) EllapsedTime: 25.0 seconds RetCode: 0 Status: OK PackageFile: SIMAT_1.42.0.tar.gz PackageFileSize: 1.033 MiB