Package: SIM Version: 1.78.0 Command: rm -rf SIM.buildbin-libdir && mkdir SIM.buildbin-libdir && E:\biocbuild\bbs-3.21-bioc\R\bin\R.exe CMD INSTALL --build --library=SIM.buildbin-libdir SIM_1.78.0.tar.gz StartedAt: 2025-08-15 10:19:22 -0400 (Fri, 15 Aug 2025) EndedAt: 2025-08-15 10:19:51 -0400 (Fri, 15 Aug 2025) EllapsedTime: 29.1 seconds RetCode: 0 Status: OK PackageFile: SIM_1.78.0.zip PackageFileSize: 487.4 KiB