Package: SIM Version: 1.78.0 Command: rm -rf SIM.buildbin-libdir && mkdir SIM.buildbin-libdir && /Users/biocbuild/BBS/utils/build-universal.sh SIM_1.78.0.tar.gz /Library/Frameworks/R.framework/Resources/bin/R SIM.buildbin-libdir StartedAt: 2025-09-20 19:25:23 -0400 (Sat, 20 Sep 2025) EndedAt: 2025-09-20 19:25:49 -0400 (Sat, 20 Sep 2025) EllapsedTime: 26.1 seconds RetCode: 0 Status: OK PackageFile: SIM_1.78.0.tgz PackageFileSize: 618.5 KiB