Package: SGSeq Version: 1.42.1 Command: E:\biocbuild\bbs-3.21-bioc\R\bin\R.exe CMD check --no-multiarch --install=check:SGSeq.install-out.txt --library=E:\biocbuild\bbs-3.21-bioc\R\library --no-vignettes --timings SGSeq_1.42.1.tar.gz StartedAt: 2025-08-15 06:53:29 -0400 (Fri, 15 Aug 2025) EndedAt: 2025-08-15 07:05:25 -0400 (Fri, 15 Aug 2025) EllapsedTime: 715.8 seconds RetCode: 0 Status: OK CheckDir: SGSeq.Rcheck Warnings: 0