Package: SGSeq Version: 1.42.1 Command: rm -rf SGSeq.buildbin-libdir && mkdir SGSeq.buildbin-libdir && E:\biocbuild\bbs-3.21-bioc\R\bin\R.exe CMD INSTALL --build --library=SGSeq.buildbin-libdir SGSeq_1.42.1.tar.gz StartedAt: 2025-08-15 10:17:59 -0400 (Fri, 15 Aug 2025) EndedAt: 2025-08-15 10:20:04 -0400 (Fri, 15 Aug 2025) EllapsedTime: 124.5 seconds RetCode: 0 Status: OK PackageFile: SGSeq_1.42.1.zip PackageFileSize: 1.687 MiB