Package: SGSeq Version: 1.44.0 Command: /home/biocbuild/bbs-3.22-bioc/R/bin/R CMD INSTALL SGSeq StartedAt: 2025-11-20 16:37:01 -0500 (Thu, 20 Nov 2025) EndedAt: 2025-11-20 16:37:41 -0500 (Thu, 20 Nov 2025) EllapsedTime: 39.7 seconds RetCode: 0 Status: OK