Package: SGSeq Version: 1.44.0 Command: /home/biocbuild/bbs-3.22-bioc/R/bin/R CMD build --keep-empty-dirs --no-resave-data --md5 SGSeq StartedAt: 2025-11-20 20:54:17 -0500 (Thu, 20 Nov 2025) EndedAt: 2025-11-20 20:57:33 -0500 (Thu, 20 Nov 2025) EllapsedTime: 196.2 seconds RetCode: 0 Status: OK PackageFile: SGSeq_1.44.0.tar.gz PackageFileSize: 1.76 MiB